BEGIN:VCALENDAR
VERSION:2.0
PRODID:-//Georgia Appleseed Center for Law &amp; Justice - ECPv6.15.20//NONSGML v1.0//EN
CALSCALE:GREGORIAN
METHOD:PUBLISH
X-ORIGINAL-URL:https://gaappleseed.org
X-WR-CALDESC:Events for Georgia Appleseed Center for Law &amp; Justice
REFRESH-INTERVAL;VALUE=DURATION:PT1H
X-Robots-Tag:noindex
X-PUBLISHED-TTL:PT1H
BEGIN:VTIMEZONE
TZID:America/New_York
BEGIN:DAYLIGHT
TZOFFSETFROM:-0500
TZOFFSETTO:-0400
TZNAME:EDT
DTSTART:20240310T070000
END:DAYLIGHT
BEGIN:STANDARD
TZOFFSETFROM:-0400
TZOFFSETTO:-0500
TZNAME:EST
DTSTART:20241103T060000
END:STANDARD
BEGIN:DAYLIGHT
TZOFFSETFROM:-0500
TZOFFSETTO:-0400
TZNAME:EDT
DTSTART:20250309T070000
END:DAYLIGHT
BEGIN:STANDARD
TZOFFSETFROM:-0400
TZOFFSETTO:-0500
TZNAME:EST
DTSTART:20251102T060000
END:STANDARD
BEGIN:DAYLIGHT
TZOFFSETFROM:-0500
TZOFFSETTO:-0400
TZNAME:EDT
DTSTART:20260308T070000
END:DAYLIGHT
BEGIN:STANDARD
TZOFFSETFROM:-0400
TZOFFSETTO:-0500
TZNAME:EST
DTSTART:20261101T060000
END:STANDARD
END:VTIMEZONE
BEGIN:VEVENT
DTSTART;TZID=America/New_York:20250730T120000
DTEND;TZID=America/New_York:20250730T140000
DTSTAMP:20260424T055900
CREATED:20250707T204357Z
LAST-MODIFIED:20250707T204522Z
UID:4615-1753876800-1753884000@gaappleseed.org
SUMMARY:GECC Summer 2025 Convening
DESCRIPTION:Supporting School Climate & Child Well-Being in Middle Georgia\nJuly 30\, 2025 in Macon\n\n\n\n\n\n\n\n\n\n\n\n\n\n\n\n\n\n\n\n\n\n\n\n\n\n\n\n\n\n\n\n\n\n\n\n\n\nJoin educators\, community leaders\, and behavioral health providers in Macon for a special event led by the Georgia Education Climate Coalition (GECC). We’ll share ideas\, explore new data\, and build partnerships to support school climate and child well-being across Middle Georgia. \nThe program will include: \n\nA panel discussion with local and state experts sharing data and solutions\nMorgan Stinson\, Director of Behavioral Health Services & Integration\, Community Health Care Systems\nJuli Alligood\, Executive Director\, Middle Georgia RESA\nEve Byrd\, The Carter Center Mental Health Program\nLayla Fitzgerald\, Director of Community Programs\, Georgia Department of Behavioral Health & Developmental Disabilities\nUpdates on positive behavioral interventions and mental health supports\nNetworking opportunities to connect and collaborate\nPre-meeting reception & youth art exhibit: See Me: Pieces of Life from Youth In Care\n\n\n\n\n\n\n\n\n\n\n\n\n\n\n\n\n\n\n\n\n\n\n\n\n\n\n\n\n\n\n\nWhere: \nMill Hill Community Arts Center \n213 Clinton St. \nMacon\, GA 31217\n\n\n\n\n\nWhen: \nWednesday\, July 30\, 2025 \n12:00-12:30PM – Refreshments\, Networking\, and Exhibit \n12:30-2:00 PM – Program/Meeting \n\n\n\n\n\n\n\n\n\n\n\n\n\n\n\n\n\n\n\n\n\n\n\n\n\n\n\n\n\n\n\n\n\n\n\n\n\n\n\n\n\n\n\n\n\n\n\n\n\n\n\n\n\n\n\n\n\n\n\n\n\nRSVP by July 23\n\n\n\n\n\n\n\n\n\n\n\n\nThe event is free\, but registration is required. \nWe encourage in person attendance.\n\n\n\n\n\n\n\n\n\n\n\n\n\n\n\n\n\n\n\n\n\n\n\n\n\n\n\n\n\n\n\n\n\n\n\n\n\n\n\n\n\n\n\n\n\n\n\n\n\n\n\n\n\n\n\n\n\n\n\n\n\n      \n\n\n\n\n\n\n\n\n\n\n\n\n\n\n\n\n\n\n\n\n\n\n\n\n\n\nGeorgia Appleseed Center for Law & Justice | 1600 Parkwood Circle Suite 200 | Atlanta\, GA 30339 US
URL:https://gaappleseed.org/event/gecc-2025july/
LOCATION:Mill Hill Community Arts Center\, 213 Clinton St.\, Macon\, GA\, 31217\, United States
CATEGORIES:Exhibit,GECC
ORGANIZER;CN="Georgia Appleseed":MAILTO:lmcdaniel@gaappleseed.org
END:VEVENT
BEGIN:VEVENT
DTSTART;TZID=America/New_York:20250731T130000
DTEND;TZID=America/New_York:20250731T153000
DTSTAMP:20260424T055900
CREATED:20250707T203420Z
LAST-MODIFIED:20250707T204617Z
UID:4613-1753966800-1753975800@gaappleseed.org
SUMMARY:GHHC Summer 2025 Convening
DESCRIPTION:July 31 in Macon\, Georgia\n\n\n\n\n\n\n\n\n\n\n\n\n\n\n\nMark your calendar\, and plan to join friends and fellow housing advocates July 31 in Macon for the Georgia Healthy Housing Coalition (GHHC) Summer Convening. \nGeorgia Appleseed and Enterprise Community Partners will facilitate the meeting to include: \n\nA Macon-Bibb County Housing Resource panel with :\nMike Austin\, Executive Director\, Macon Housing Authority\nIvy Hall\, Executive Director\, Macon Area Habitat for Humanity\nShawn Stafford\, President\, Stafford Builders & Consultants\nModerator: Natalie Bouyett\, Executive Director\, Macon-Bibb County Affordable Housing Fund\nSpotlight on Enterprise’s policy report on state and local housing trust funds by Beth Stephens\, Director\, State and Local Policy Southeast\, Enterprise Community Partners\nNetworking opportunities\nPre-meeting reception and art exhibit: See Me: Pieces of Life from Youth In Care – Georgia Appleseed Center for Law & Justice\n\n\n\n\n\n\n\n\n\n\n\n\n\n\n\n\n\n\n\n\n\n\n\n\n\n\n\n\n\n\n\n\n\n\n\n\n\n\n\n\n\n\n\n\n\n\n\n\n\n\n\n\n\n\n\n\n\n\n\n\n\n\n\n\n\n\n\n\n\n\n\n\n\nWhen: \nThursday\, July 31\, 2025 \nGHHC Meeting: 2PM – 3:30PM \nRefreshments & Exhibit: 1 – 1:45PM\n\n\n\n\n\n\n\n\n\nWhere: \nMill Hill Community Arts Center \n213 Clinton St. \nMacon\, GA 31217\n\n\n\n\n\n\n\n\n\n\n\n\n\n\n\n\n\n\n\n\n\n\n\n\n\n\n\n\n\n\n\n\n\n\n\n\n\n\n\n\n\n\n\n\n\nRSVP by July 23\n\n\n\n\n\n\n\n\n\n\n\n\nThe event is free\, but registration is required. \nWe encourage in person attendance.
URL:https://gaappleseed.org/event/ghhc-2025july/
LOCATION:Mill Hill Community Arts Center\, 213 Clinton St.\, Macon\, GA\, 31217\, United States
CATEGORIES:GHHC
ORGANIZER;CN="Georgia Appleseed":MAILTO:lmcdaniel@gaappleseed.org
END:VEVENT
END:VCALENDAR