BEGIN:VCALENDAR
VERSION:2.0
PRODID:-//Georgia Appleseed Center for Law &amp; Justice - ECPv6.15.20//NONSGML v1.0//EN
CALSCALE:GREGORIAN
METHOD:PUBLISH
X-ORIGINAL-URL:https://gaappleseed.org
X-WR-CALDESC:Events for Georgia Appleseed Center for Law &amp; Justice
REFRESH-INTERVAL;VALUE=DURATION:PT1H
X-Robots-Tag:noindex
X-PUBLISHED-TTL:PT1H
BEGIN:VTIMEZONE
TZID:America/New_York
BEGIN:DAYLIGHT
TZOFFSETFROM:-0500
TZOFFSETTO:-0400
TZNAME:EDT
DTSTART:20250309T070000
END:DAYLIGHT
BEGIN:STANDARD
TZOFFSETFROM:-0400
TZOFFSETTO:-0500
TZNAME:EST
DTSTART:20251102T060000
END:STANDARD
BEGIN:DAYLIGHT
TZOFFSETFROM:-0500
TZOFFSETTO:-0400
TZNAME:EDT
DTSTART:20260308T070000
END:DAYLIGHT
BEGIN:STANDARD
TZOFFSETFROM:-0400
TZOFFSETTO:-0500
TZNAME:EST
DTSTART:20261101T060000
END:STANDARD
BEGIN:DAYLIGHT
TZOFFSETFROM:-0500
TZOFFSETTO:-0400
TZNAME:EDT
DTSTART:20270314T070000
END:DAYLIGHT
BEGIN:STANDARD
TZOFFSETFROM:-0400
TZOFFSETTO:-0500
TZNAME:EST
DTSTART:20271107T060000
END:STANDARD
END:VTIMEZONE
BEGIN:VEVENT
DTSTART;TZID=America/New_York:20260325T090000
DTEND;TZID=America/New_York:20260325T160000
DTSTAMP:20260419T171446
CREATED:20260304T171644Z
LAST-MODIFIED:20260309T204333Z
UID:4931-1774429200-1774454400@gaappleseed.org
SUMMARY:Special Education Free Clinic
DESCRIPTION:Special Education Free Clinic – Clayton County Families \nParents and guardians seeking assistance with their child’s IEP or 504 Plan are invited to attend a free\, 30-minute individual consultation with a special education advocate from Georgia Appleseed’s FAIR Team. \nThis clinic is designed to support Clayton County families by offering personalized guidance and practical recommendations. During each consultation\, families will: \n\nReview their child’s current IEP or 504 Plan\nDiscuss specific concerns\, priorities\, and goals\nReceive clear action steps to prepare for upcoming school meetings\n\nDate: March 25Time: 9:00 a.m. – 4:00 p.m. (30-minute appointments)Location: Clayton County Police Department7911 North McDonough St.Jonesboro\, GA 30236 \nParticipants are asked to bring a copy of their child’s current IEP or 504 Plan. Appointments are limited to one per family. Light refreshments will be provided. \nAdvance registration is required\, as space is limited. Register here. \nFor additional information\, please contact: FAIR@gaappleseed.org
URL:https://gaappleseed.org/event/clayton-county-clinic/
ATTACH;FMTTYPE=image/jpeg:https://gaappleseed.org/wp-content/uploads/1.jpg
END:VEVENT
BEGIN:VEVENT
DTSTART;TZID=America/New_York:20260424T180000
DTEND;TZID=America/New_York:20260424T200000
DTSTAMP:20260419T171446
CREATED:20260211T211612Z
LAST-MODIFIED:20260407T135009Z
UID:4891-1777053600-1777060800@gaappleseed.org
SUMMARY:Roaring for Justice 2026
DESCRIPTION:Where: The Foundry \n916 Joseph E. Lowery Blvd NW \nAtlanta\, GA 30318 \nWhen: \n5:30pm – VIP Reception for event sponsors (by invitation) \n6:30pm – Event opens for all guests \nTickets: There are no paper tickets\, but all attendees must purchase tickets to confirm their spot be able to check in. Confirmed guests and attendees who received a ticket as part of a sponsorship package will be able to check in under their own name. \nRegistration: If you already have purchased a ticket\, or you are attending as part of a sponsorship\, please register ahead of time to make it easier and faster to check in upon arrival. \nAttire: Cocktail \nDirections and Parking: Click here for directions. Parking at the Foundry is free. We encourage carpooling and ride sharing where possible. \nQuestions? Contact Liz McDaniel at lmcdaniel@gaappleseed.org or by phone 678-336-7238.
URL:https://gaappleseed.org/event/roaring-for-justice-2026/
LOCATION:The Foundry\, 916 Joseph E Lowery Blvd NW Ste 11\, Atlanta\, GA\, 30318
ORGANIZER;CN="Georgia Appleseed":MAILTO:lmcdaniel@gaappleseed.org
END:VEVENT
BEGIN:VEVENT
DTSTART;TZID=America/New_York:20260514T120000
DTEND;TZID=America/New_York:20260514T143000
DTSTAMP:20260419T171446
CREATED:20260402T183942Z
LAST-MODIFIED:20260402T184850Z
UID:4988-1778760000-1778769000@gaappleseed.org
SUMMARY:GECC & GHHC Joint Coalition Convening
DESCRIPTION:Stable Homes\, Strong Schools: A Cross-Sector Conversation on Child Outcomes\nWhen: May 14\, 12:00 PM – 2:30 PM \n12:00 PM – 1:00 PM – Lunch and networking \n1:00 PM – 2:30 PM – Meeting and panel \n  \nWhere: Henry County Chamber of Commerce \n1709 Highway 20 West \nMcDonough\, GA 30253 \n  \nRegistration: Please click here or scan the QR code below to RSVP. \n \nQuestions? Contact Fatima Santillan at fsantillan@gaappleseed.org. \n  \nHosted by the Georgia Education Climate Coalition (GECC) and the Georgia Healthy Housing Coalition (GHHC).
URL:https://gaappleseed.org/event/gecc-ghhc-joint-coalition-convening/
LOCATION:Henry County Chamber of Commerce\, 1709 Highway 20 West\, McDonough\, GA\, 30253\, United States
END:VEVENT
END:VCALENDAR