BEGIN:VCALENDAR
VERSION:2.0
PRODID:-//Georgia Appleseed Center for Law &amp; Justice - ECPv6.15.20//NONSGML v1.0//EN
CALSCALE:GREGORIAN
METHOD:PUBLISH
X-WR-CALNAME:Georgia Appleseed Center for Law &amp; Justice
X-ORIGINAL-URL:https://gaappleseed.org
X-WR-CALDESC:Events for Georgia Appleseed Center for Law &amp; Justice
REFRESH-INTERVAL;VALUE=DURATION:PT1H
X-Robots-Tag:noindex
X-PUBLISHED-TTL:PT1H
BEGIN:VTIMEZONE
TZID:America/New_York
BEGIN:DAYLIGHT
TZOFFSETFROM:-0500
TZOFFSETTO:-0400
TZNAME:EDT
DTSTART:20250309T070000
END:DAYLIGHT
BEGIN:STANDARD
TZOFFSETFROM:-0400
TZOFFSETTO:-0500
TZNAME:EST
DTSTART:20251102T060000
END:STANDARD
BEGIN:DAYLIGHT
TZOFFSETFROM:-0500
TZOFFSETTO:-0400
TZNAME:EDT
DTSTART:20260308T070000
END:DAYLIGHT
BEGIN:STANDARD
TZOFFSETFROM:-0400
TZOFFSETTO:-0500
TZNAME:EST
DTSTART:20261101T060000
END:STANDARD
BEGIN:DAYLIGHT
TZOFFSETFROM:-0500
TZOFFSETTO:-0400
TZNAME:EDT
DTSTART:20270314T070000
END:DAYLIGHT
BEGIN:STANDARD
TZOFFSETFROM:-0400
TZOFFSETTO:-0500
TZNAME:EST
DTSTART:20271107T060000
END:STANDARD
END:VTIMEZONE
BEGIN:VEVENT
DTSTART;TZID=America/New_York:20260428T180000
DTEND;TZID=America/New_York:20260428T200000
DTSTAMP:20260422T162106
CREATED:20260422T151522Z
LAST-MODIFIED:20260422T151522Z
UID:5012-1777399200-1777406400@gaappleseed.org
SUMMARY:ABCs with Chief Magistrate Judge Keisha Wright-Hill
DESCRIPTION:April 28 – 6:00 PM -8:00 PM  \nABCs with Chief Magistrate Judge Keisha Wright-Hill \nClayton County Courthouse – 9151 Tara Boulevard\, Jonesboro\, GA 30236 \n 
URL:https://gaappleseed.org/event/abcs-with-chief-magistrate-judge-keisha-wright-hill/
LOCATION:Clayton County Magistrate Court\, 9151 Tara Blvd\, Jonesboro\, GA\, 30236
END:VEVENT
BEGIN:VEVENT
DTSTART;TZID=America/New_York:20260508T080000
DTEND;TZID=America/New_York:20260508T170000
DTSTAMP:20260422T162106
CREATED:20260422T152041Z
LAST-MODIFIED:20260422T152138Z
UID:5013-1778227200-1778259600@gaappleseed.org
SUMMARY:See Me Exhibit at AEC Book Launch
DESCRIPTION:May 8 \nSee Me at AEC Book Launch \nPittsburg Yards – 352 University Ave SW\, Atlanta\, GA 30310
URL:https://gaappleseed.org/event/see-me-at-aec-book-launch/
LOCATION:Pittsburgh Yards\, 352 University Ave SW\, Atlanta\, GA\, 30310\, United States
END:VEVENT
BEGIN:VEVENT
DTSTART;TZID=America/New_York:20260512T180000
DTEND;TZID=America/New_York:20260512T200000
DTSTAMP:20260422T162106
CREATED:20260422T152542Z
LAST-MODIFIED:20260422T152608Z
UID:5015-1778608800-1778616000@gaappleseed.org
SUMMARY:Clearing the Air: Vaping & Teen Mental Health
DESCRIPTION:Join the Georgia PTA community on May 12 for an important and engaging virtual conversation focused on the growing concerns around youth vaping and its connection to mental health. \nThis session will bring together families\, educators\, and community leaders to:\n• Learn the facts about vaping and its impact on youth health\n• Understand how vaping connects to stress\, anxiety\, and peer pressure\n• Hear insights from health and community professionals\n• Engage in open discussion and share ideas to support our youth \nDate: May 12\, 2026\nTime: 6:00 PM – 8:00 PM\nLocation: Virtual (Microsoft Teams) \nClick the link below to RSVP: \nhttps://events.teams.microsoft.com/event/68e8ce15-16e8-4fd9-ba6a-6167ae991de5@b6bc67b0-1dab-4acf-870c-6d9d63267025?fbclid=IwY2xjawRVxwtleHRuA2FlbQIxMABicmlkETExOGpxZWRSeVlJRkJOb1dTc3J0YwZhcHBfaWQQMjIyMDM5MTc4ODIwMDg5MgABHm5GpvUNM6mS9D3VabQzuQVJ5sZS0hZ3OMbqpkjare6ylCxqI4w47wuB9t4w_aem_RZMd6fG_WJ2hhro9zm3wTg
URL:https://gaappleseed.org/event/clearing-the-air-vaping-teen-mental-health/
LOCATION:GA
END:VEVENT
BEGIN:VEVENT
DTSTART;TZID=America/New_York:20260514T120000
DTEND;TZID=America/New_York:20260514T143000
DTSTAMP:20260422T162106
CREATED:20260402T183942Z
LAST-MODIFIED:20260421T190505Z
UID:4988-1778760000-1778769000@gaappleseed.org
SUMMARY:GECC & GHHC Joint Coalition Convening
DESCRIPTION:Stable Homes\, Strong Schools: A Cross-Sector Conversation on Child Outcomes\nWhen: May 14\, 12:00 PM – 2:30 PM \n12:00 PM – 1:00 PM – Lunch and networking \n1:00 PM – 2:30 PM – Meeting and panel \n  \nWhere: Henry County Chamber of Commerce \n1709 Highway 20 West \nMcDonough\, GA 30253 \n  \nRegistration: Please click here or scan the QR code below to RSVP. \n \nQuestions? Contact Fatima Santillan at fsantillan@gaappleseed.org. \nDownload and share the flyer here! \nHosted by the Georgia Education Climate Coalition (GECC) and the Georgia Healthy Housing Coalition (GHHC).
URL:https://gaappleseed.org/event/gecc-ghhc-joint-coalition-convening/
LOCATION:Henry County Chamber of Commerce\, 1709 Highway 20 West\, McDonough\, GA\, 30253\, United States
ATTACH;FMTTYPE=image/png:https://gaappleseed.org/wp-content/uploads/Screenshot-2026-04-21-125036.png
END:VEVENT
BEGIN:VEVENT
DTSTART;TZID=America/New_York:20260519T090000
DTEND;TZID=America/New_York:20260519T170000
DTSTAMP:20260422T162106
CREATED:20260422T153326Z
LAST-MODIFIED:20260422T153326Z
UID:5016-1779181200-1779210000@gaappleseed.org
SUMMARY:30th Annual Rosalynn Carter Georgia Mental Health Forum
DESCRIPTION:The Carter Center’s Rosalynn Carter Mental Health and Caregiver Program will convene the 30th Annual Rosalynn Carter Georgia Mental Health Forum\, a milestone gathering dedicated to advancing mental health policy\, systems\, and practice across the state of Georgia. \nThrough conversations with policy leaders\, mental health experts\, state agency officials\, and community voices\, participants will explore critical topics shaping Georgia’s mental health landscape and identify opportunities to advance a more equitable\, accessible\, and effective behavioral health system for all Georgians. \nWhen: May 19\, 2026 9:00am – 5:00pm (Georgia Appleseed Panel begins at 1:15 PM) \nWhere: The Carter Center Cecil B. Day Chapel\n453 John Lewis Freedom Parkway Northeast\nAtlanta\, GA 30307
URL:https://gaappleseed.org/event/30th-annual-rosalynn-carter-georgia-mental-health-forum/
LOCATION:The Carter Center Cecil B. Day Chapel\, 453 John Lewis Freedom Parkway Northeast\, Atlanta\, Georgia\, 30307\, Georgia
END:VEVENT
END:VCALENDAR