BEGIN:VCALENDAR
VERSION:2.0
PRODID:-//Georgia Appleseed Center for Law &amp; Justice - ECPv6.15.20//NONSGML v1.0//EN
CALSCALE:GREGORIAN
METHOD:PUBLISH
X-ORIGINAL-URL:https://gaappleseed.org
X-WR-CALDESC:Events for Georgia Appleseed Center for Law &amp; Justice
REFRESH-INTERVAL;VALUE=DURATION:PT1H
X-Robots-Tag:noindex
X-PUBLISHED-TTL:PT1H
BEGIN:VTIMEZONE
TZID:America/New_York
BEGIN:DAYLIGHT
TZOFFSETFROM:-0500
TZOFFSETTO:-0400
TZNAME:EDT
DTSTART:20240310T070000
END:DAYLIGHT
BEGIN:STANDARD
TZOFFSETFROM:-0400
TZOFFSETTO:-0500
TZNAME:EST
DTSTART:20241103T060000
END:STANDARD
BEGIN:DAYLIGHT
TZOFFSETFROM:-0500
TZOFFSETTO:-0400
TZNAME:EDT
DTSTART:20250309T070000
END:DAYLIGHT
BEGIN:STANDARD
TZOFFSETFROM:-0400
TZOFFSETTO:-0500
TZNAME:EST
DTSTART:20251102T060000
END:STANDARD
BEGIN:DAYLIGHT
TZOFFSETFROM:-0500
TZOFFSETTO:-0400
TZNAME:EDT
DTSTART:20260308T070000
END:DAYLIGHT
BEGIN:STANDARD
TZOFFSETFROM:-0400
TZOFFSETTO:-0500
TZNAME:EST
DTSTART:20261101T060000
END:STANDARD
END:VTIMEZONE
BEGIN:VEVENT
DTSTART;TZID=America/New_York:20250612T090000
DTEND;TZID=America/New_York:20250612T170000
DTSTAMP:20260420T144658
CREATED:20250529T164923Z
LAST-MODIFIED:20250611T175642Z
UID:4557-1749718800-1749747600@gaappleseed.org
SUMMARY:Uncover the Gaps: Free Virtual IEP Consultations for Parents (Clinic 1)
DESCRIPTION:Does your child have an IEP? Do you fully understand what’s in it—and whether it meets your child’s needs?\nWe’re here to help you uncover the gaps. \nGeorgia Appleseed’s “Uncover the Gaps” Online Clinic is a free resource for parents navigating the special education system. We’re offering 30-minute\, one-on-one virtual consultations with a trained special education advocate to help you better understand your child’s Individualized Education Program (IEP). \n💬 What to Expect:\nDuring your session\, a trained advocate will: \n\nReview your child’s current IEP\nDiscuss your concerns\nProvide tailored guidance and next steps\n\n📝 How to Participate:\nTo register\, you’ll need to: \n\nChoose your preferred date: June 12\, 16\, or 18\nSubmit your child’s current IEP and a brief description of your concerns\nRegister using this link: https://forms.office.com/r/EJWn0iUEET\n\n📄 Learn More:\n\nDownload the IEP Clinic Flyer\nHave questions? Email us at: fair@gaappleseed.org\n\nSpace is limited—sign up today to get the support you need to advocate for your child! \nNOTE: For children in foster care\, please contact DFCS at https://epac.dhs.ga.gov/#/referral-program
URL:https://gaappleseed.org/event/iep-clinic1/
LOCATION:Virtual
ORGANIZER;CN="Georgia Appleseed":MAILTO:lmcdaniel@gaappleseed.org
END:VEVENT
END:VCALENDAR